BEGIN:VCALENDAR
VERSION:2.0
PRODID:JMS Hockey
X-PUBLISHED-TTL:P1W
BEGIN:VEVENT
UID:69e7d4c20a810
DTSTART:20260103T023000Z
SEQUENCE:0
TRANSP:OPAQUE
DTEND:20260103T040000Z
URL:http://jmshockey.com/games/16043
LOCATION:Eden Prairie Comm Ctr
SUMMARY:Intermediate Game at Eden Prairie Comm Ctr
CLASS:PUBLIC
DTSTAMP:20260421T144922Z
END:VEVENT
END:VCALENDAR