BEGIN:VCALENDAR
VERSION:2.0
PRODID:JMS Hockey
X-PUBLISHED-TTL:P1W
BEGIN:VEVENT
UID:69e77b171ca99
DTSTART:20251231T023000Z
SEQUENCE:0
TRANSP:OPAQUE
DTEND:20251231T040000Z
URL:http://jmshockey.com/games/16024
LOCATION:Eden Prairie Comm Ctr
SUMMARY:Upper Level Game at Eden Prairie Comm Ctr
CLASS:PUBLIC
DTSTAMP:20260421T082647Z
END:VEVENT
END:VCALENDAR