BEGIN:VCALENDAR
VERSION:2.0
PRODID:JMS Hockey
X-PUBLISHED-TTL:P1W
BEGIN:VEVENT
UID:69e796501672d
DTSTART:20251007T020000Z
SEQUENCE:0
TRANSP:OPAQUE
DTEND:20251007T033000Z
URL:http://jmshockey.com/games/15994
LOCATION:Eden Prairie Comm Ctr
SUMMARY:All level Game at Eden Prairie Comm Ctr
CLASS:PUBLIC
DTSTAMP:20260421T102256Z
END:VEVENT
END:VCALENDAR