BEGIN:VCALENDAR
VERSION:2.0
PRODID:JMS Hockey
X-PUBLISHED-TTL:P1W
BEGIN:VEVENT
UID:69e7732eb0148
DTSTART:20251112T040000Z
SEQUENCE:0
TRANSP:OPAQUE
DTEND:20251112T053000Z
URL:http://jmshockey.com/games/15972
LOCATION:Maple Grove
SUMMARY:Intermediate Game at Maple Grove
CLASS:PUBLIC
DTSTAMP:20260421T075302Z
END:VEVENT
END:VCALENDAR