BEGIN:VCALENDAR
VERSION:2.0
PRODID:JMS Hockey
X-PUBLISHED-TTL:P1W
BEGIN:VEVENT
UID:69e7c3ca38797
DTSTART:20100619T003000Z
SEQUENCE:0
TRANSP:OPAQUE
DTEND:20100619T020000Z
URL:http://jmshockey.com/games/1595
LOCATION:Bloomington Ice Gardens
SUMMARY:Level 2 Game at Bloomington Ice Gardens
CLASS:PUBLIC
DTSTAMP:20260421T133658Z
END:VEVENT
END:VCALENDAR