BEGIN:VCALENDAR
VERSION:2.0
PRODID:JMS Hockey
X-PUBLISHED-TTL:P1W
BEGIN:VEVENT
UID:69e7adc8cef71
DTSTART:20100619T003000Z
SEQUENCE:0
TRANSP:OPAQUE
DTEND:20100619T020000Z
URL:http://jmshockey.com/games/1592
LOCATION:St Louis Park Rec Center
SUMMARY:Level 1 Game at St Louis Park Rec Center
CLASS:PUBLIC
DTSTAMP:20260421T120304Z
END:VEVENT
END:VCALENDAR