BEGIN:VCALENDAR
VERSION:2.0
PRODID:JMS Hockey
X-PUBLISHED-TTL:P1W
BEGIN:VEVENT
UID:69e7732e55dde
DTSTART:20251115T034500Z
SEQUENCE:0
TRANSP:OPAQUE
DTEND:20251115T051500Z
URL:http://jmshockey.com/games/15911
LOCATION:St Louis Park Rec Center
SUMMARY:Lower Level Game at St Louis Park Rec Center
CLASS:PUBLIC
DTSTAMP:20260421T075302Z
END:VEVENT
END:VCALENDAR