BEGIN:VCALENDAR
VERSION:2.0
PRODID:JMS Hockey
X-PUBLISHED-TTL:P1W
BEGIN:VEVENT
UID:69e73e731c477
DTSTART:20250920T011500Z
SEQUENCE:0
TRANSP:OPAQUE
DTEND:20250920T024500Z
URL:http://jmshockey.com/games/15900
LOCATION:Eden Prairie Comm Ctr
SUMMARY:Intermediate Game at Eden Prairie Comm Ctr
CLASS:PUBLIC
DTSTAMP:20260421T040803Z
END:VEVENT
END:VCALENDAR