BEGIN:VCALENDAR
VERSION:2.0
PRODID:JMS Hockey
X-PUBLISHED-TTL:P1W
BEGIN:VEVENT
UID:69e7e06cbd81d
DTSTART:20081121T033000Z
SEQUENCE:0
TRANSP:OPAQUE
DTEND:20081121T050000Z
URL:http://jmshockey.com/games/159
LOCATION:Breck Anderson Arena
SUMMARY:Upper Level Game at Breck Anderson Arena
CLASS:PUBLIC
DTSTAMP:20260421T153908Z
END:VEVENT
END:VCALENDAR