BEGIN:VCALENDAR
VERSION:2.0
PRODID:JMS Hockey
X-PUBLISHED-TTL:P1W
BEGIN:VEVENT
UID:69e7ba1513de4
DTSTART:20100617T000000Z
SEQUENCE:0
TRANSP:OPAQUE
DTEND:20100617T013000Z
URL:http://jmshockey.com/games/1589
LOCATION:Richfield Ice Arena
SUMMARY:Level 4 Game at Richfield Ice Arena
CLASS:PUBLIC
DTSTAMP:20260421T125533Z
END:VEVENT
END:VCALENDAR