BEGIN:VCALENDAR
VERSION:2.0
PRODID:JMS Hockey
X-PUBLISHED-TTL:P1W
BEGIN:VEVENT
UID:69e765dba18a1
DTSTART:20251118T032000Z
SEQUENCE:0
TRANSP:OPAQUE
DTEND:20251118T045000Z
URL:http://jmshockey.com/games/15881
LOCATION:Doug Woog Arena (Wakota)
SUMMARY:Lower Level Game at Doug Woog Arena (Wakota)
CLASS:PUBLIC
DTSTAMP:20260421T065611Z
END:VEVENT
END:VCALENDAR