BEGIN:VCALENDAR
VERSION:2.0
PRODID:JMS Hockey
X-PUBLISHED-TTL:P1W
BEGIN:VEVENT
UID:69e7d52c0592c
DTSTART:20250926T014500Z
SEQUENCE:0
TRANSP:OPAQUE
DTEND:20250926T031500Z
URL:http://jmshockey.com/games/15870
LOCATION:Apple Valley Hayes Park Arena
SUMMARY:Intermediate Game at Apple Valley Hayes Park Arena
CLASS:PUBLIC
DTSTAMP:20260421T145108Z
END:VEVENT
END:VCALENDAR