BEGIN:VCALENDAR
VERSION:2.0
PRODID:JMS Hockey
X-PUBLISHED-TTL:P1W
BEGIN:VEVENT
UID:69e7f8dc94a2f
DTSTART:20251001T023000Z
SEQUENCE:0
TRANSP:OPAQUE
DTEND:20251001T040000Z
URL:http://jmshockey.com/games/15865
LOCATION:Apple Valley Hayes Park Arena
SUMMARY:Lower Level Game at Apple Valley Hayes Park Arena
CLASS:PUBLIC
DTSTAMP:20260421T172324Z
END:VEVENT
END:VCALENDAR