BEGIN:VCALENDAR
VERSION:2.0
PRODID:JMS Hockey
X-PUBLISHED-TTL:P1W
BEGIN:VEVENT
UID:69e7733083f3d
DTSTART:20251015T023000Z
SEQUENCE:0
TRANSP:OPAQUE
DTEND:20251015T040000Z
URL:http://jmshockey.com/games/15859
LOCATION:Apple Valley Hayes Park Arena
SUMMARY:Lower Level Game at Apple Valley Hayes Park Arena
CLASS:PUBLIC
DTSTAMP:20260421T075304Z
END:VEVENT
END:VCALENDAR