BEGIN:VCALENDAR
VERSION:2.0
PRODID:JMS Hockey
X-PUBLISHED-TTL:P1W
BEGIN:VEVENT
UID:69e776ecb95d7
DTSTART:20250917T023000Z
SEQUENCE:0
TRANSP:OPAQUE
DTEND:20250917T040000Z
URL:http://jmshockey.com/games/15833
LOCATION:Maple Grove
SUMMARY:Intermediate Game at Maple Grove
CLASS:PUBLIC
DTSTAMP:20260421T080900Z
END:VEVENT
END:VCALENDAR