BEGIN:VCALENDAR
VERSION:2.0
PRODID:JMS Hockey
X-PUBLISHED-TTL:P1W
BEGIN:VEVENT
UID:69e7a5620da0e
DTSTART:20250903T020000Z
SEQUENCE:0
TRANSP:OPAQUE
DTEND:20250903T033000Z
URL:http://jmshockey.com/games/15831
LOCATION:Maple Grove
SUMMARY:Intermediate Game at Maple Grove
CLASS:PUBLIC
DTSTAMP:20260421T112714Z
END:VEVENT
END:VCALENDAR