BEGIN:VCALENDAR
VERSION:2.0
PRODID:JMS Hockey
X-PUBLISHED-TTL:P1W
BEGIN:VEVENT
UID:69e7b5e8f0a8c
DTSTART:20100612T020000Z
SEQUENCE:0
TRANSP:OPAQUE
DTEND:20100612T033000Z
URL:http://jmshockey.com/games/1583
LOCATION:Roseville Skating Center
SUMMARY:Level 2 Game at Roseville Skating Center
CLASS:PUBLIC
DTSTAMP:20260421T123744Z
END:VEVENT
END:VCALENDAR