BEGIN:VCALENDAR
VERSION:2.0
PRODID:JMS Hockey
X-PUBLISHED-TTL:P1W
BEGIN:VEVENT
UID:69e7c3bac3229
DTSTART:20250813T030000Z
SEQUENCE:0
TRANSP:OPAQUE
DTEND:20250813T043000Z
URL:http://jmshockey.com/games/15828
LOCATION:Maple Grove
SUMMARY:Intermediate Game at Maple Grove
CLASS:PUBLIC
DTSTAMP:20260421T133642Z
END:VEVENT
END:VCALENDAR