BEGIN:VCALENDAR
VERSION:2.0
PRODID:JMS Hockey
X-PUBLISHED-TTL:P1W
BEGIN:VEVENT
UID:69e77ab7b313f
DTSTART:20250806T030000Z
SEQUENCE:0
TRANSP:OPAQUE
DTEND:20250806T043000Z
URL:http://jmshockey.com/games/15827
LOCATION:Maple Grove
SUMMARY:Intermediate Game at Maple Grove
CLASS:PUBLIC
DTSTAMP:20260421T082511Z
END:VEVENT
END:VCALENDAR