BEGIN:VCALENDAR
VERSION:2.0
PRODID:JMS Hockey
X-PUBLISHED-TTL:P1W
BEGIN:VEVENT
UID:69e776d6a0ead
DTSTART:20250805T013000Z
SEQUENCE:0
TRANSP:OPAQUE
DTEND:20250805T030000Z
URL:http://jmshockey.com/games/15799
LOCATION:Eden Prairie Comm Ctr
SUMMARY:Intermediate Game at Eden Prairie Comm Ctr
CLASS:PUBLIC
DTSTAMP:20260421T080838Z
END:VEVENT
END:VCALENDAR