BEGIN:VCALENDAR
VERSION:2.0
PRODID:JMS Hockey
X-PUBLISHED-TTL:P1W
BEGIN:VEVENT
UID:69e79da94214b
DTSTART:20250709T011500Z
SEQUENCE:0
TRANSP:OPAQUE
DTEND:20250709T024500Z
URL:http://jmshockey.com/games/15788
LOCATION:Eden Prairie Comm Ctr
SUMMARY:Upper Level Game at Eden Prairie Comm Ctr
CLASS:PUBLIC
DTSTAMP:20260421T105417Z
END:VEVENT
END:VCALENDAR