BEGIN:VCALENDAR
VERSION:2.0
PRODID:JMS Hockey
X-PUBLISHED-TTL:P1W
BEGIN:VEVENT
UID:69e78408de601
DTSTART:20250702T011500Z
SEQUENCE:0
TRANSP:OPAQUE
DTEND:20250702T024500Z
URL:http://jmshockey.com/games/15785
LOCATION:Eden Prairie Comm Ctr
SUMMARY:Upper Level Game at Eden Prairie Comm Ctr
CLASS:PUBLIC
DTSTAMP:20260421T090456Z
END:VEVENT
END:VCALENDAR