BEGIN:VCALENDAR
VERSION:2.0
PRODID:JMS Hockey
X-PUBLISHED-TTL:P1W
BEGIN:VEVENT
UID:69e7735dd446c
DTSTART:20250617T013000Z
SEQUENCE:0
TRANSP:OPAQUE
DTEND:20250617T030000Z
URL:http://jmshockey.com/games/15776
LOCATION:Eden Prairie Comm Ctr
SUMMARY:Intermediate Game at Eden Prairie Comm Ctr
CLASS:PUBLIC
DTSTAMP:20260421T075349Z
END:VEVENT
END:VCALENDAR