BEGIN:VCALENDAR
VERSION:2.0
PRODID:JMS Hockey
X-PUBLISHED-TTL:P1W
BEGIN:VEVENT
UID:69e785da27d2a
DTSTART:20250604T010000Z
SEQUENCE:0
TRANSP:OPAQUE
DTEND:20250604T023000Z
URL:http://jmshockey.com/games/15759
LOCATION:Apple Valley Hayes Park Arena
SUMMARY:Lower Level Game at Apple Valley Hayes Park Arena
CLASS:PUBLIC
DTSTAMP:20260421T091242Z
END:VEVENT
END:VCALENDAR