BEGIN:VCALENDAR
VERSION:2.0
PRODID:JMS Hockey
X-PUBLISHED-TTL:P1W
BEGIN:VEVENT
UID:69e7384ea4442
DTSTART:20250731T020000Z
SEQUENCE:0
TRANSP:OPAQUE
DTEND:20250731T033000Z
URL:http://jmshockey.com/games/15744
LOCATION:Polar Arena
SUMMARY:Lower Level Game at Polar Arena
CLASS:PUBLIC
DTSTAMP:20260421T034150Z
END:VEVENT
END:VCALENDAR