BEGIN:VCALENDAR
VERSION:2.0
PRODID:JMS Hockey
X-PUBLISHED-TTL:P1W
BEGIN:VEVENT
UID:69e79a5f424bd
DTSTART:20250619T020000Z
SEQUENCE:0
TRANSP:OPAQUE
DTEND:20250619T033000Z
URL:http://jmshockey.com/games/15738
LOCATION:Polar Arena
SUMMARY:Lower Level Game at Polar Arena
CLASS:PUBLIC
DTSTAMP:20260421T104015Z
END:VEVENT
END:VCALENDAR