BEGIN:VCALENDAR
VERSION:2.0
PRODID:JMS Hockey
X-PUBLISHED-TTL:P1W
BEGIN:VEVENT
UID:69e7a383904bf
DTSTART:20250610T013000Z
SEQUENCE:0
TRANSP:OPAQUE
DTEND:20250610T030000Z
URL:http://jmshockey.com/games/15732
LOCATION:Eden Prairie Comm Ctr
SUMMARY:Intermediate Game at Eden Prairie Comm Ctr
CLASS:PUBLIC
DTSTAMP:20260421T111915Z
END:VEVENT
END:VCALENDAR