BEGIN:VCALENDAR
VERSION:2.0
PRODID:JMS Hockey
X-PUBLISHED-TTL:P1W
BEGIN:VEVENT
UID:69e77ae66da3f
DTSTART:20250520T020000Z
SEQUENCE:0
TRANSP:OPAQUE
DTEND:20250520T033000Z
URL:http://jmshockey.com/games/15726
LOCATION:Eden Prairie Comm Ctr
SUMMARY:Intermediate Game at Eden Prairie Comm Ctr
CLASS:PUBLIC
DTSTAMP:20260421T082558Z
END:VEVENT
END:VCALENDAR