BEGIN:VCALENDAR
VERSION:2.0
PRODID:JMS Hockey
X-PUBLISHED-TTL:P1W
BEGIN:VEVENT
UID:69e7d52d05b41
DTSTART:20100608T011000Z
SEQUENCE:0
TRANSP:OPAQUE
DTEND:20100608T024000Z
URL:http://jmshockey.com/games/1572
LOCATION:Roseville Skating Center
SUMMARY:Level 3 Game at Roseville Skating Center
CLASS:PUBLIC
DTSTAMP:20260421T145109Z
END:VEVENT
END:VCALENDAR