BEGIN:VCALENDAR
VERSION:2.0
PRODID:JMS Hockey
X-PUBLISHED-TTL:P1W
BEGIN:VEVENT
UID:69e76583a041e
DTSTART:20250709T013000Z
SEQUENCE:0
TRANSP:OPAQUE
DTEND:20250709T030000Z
URL:http://jmshockey.com/games/15716
LOCATION:Maple Grove
SUMMARY:Intermediate Game at Maple Grove
CLASS:PUBLIC
DTSTAMP:20260421T065443Z
END:VEVENT
END:VCALENDAR