BEGIN:VCALENDAR
VERSION:2.0
PRODID:JMS Hockey
X-PUBLISHED-TTL:P1W
BEGIN:VEVENT
UID:69e7a7c8d1daa
DTSTART:20250708T020000Z
SEQUENCE:0
TRANSP:OPAQUE
DTEND:20250708T033000Z
URL:http://jmshockey.com/games/15693
LOCATION:Doug Woog Arena (Wakota)
SUMMARY:Lower Level Game at Doug Woog Arena (Wakota)
CLASS:PUBLIC
DTSTAMP:20260421T113728Z
END:VEVENT
END:VCALENDAR