BEGIN:VCALENDAR
VERSION:2.0
PRODID:JMS Hockey
X-PUBLISHED-TTL:P1W
BEGIN:VEVENT
UID:69e787fc9aaa8
DTSTART:20250402T031500Z
SEQUENCE:0
TRANSP:OPAQUE
DTEND:20250402T044500Z
URL:http://jmshockey.com/games/15684
LOCATION:Maple Grove
SUMMARY:Intermediate Game at Maple Grove
CLASS:PUBLIC
DTSTAMP:20260421T092148Z
END:VEVENT
END:VCALENDAR