BEGIN:VCALENDAR
VERSION:2.0
PRODID:JMS Hockey
X-PUBLISHED-TTL:P1W
BEGIN:VEVENT
UID:69e79bbda4ff8
DTSTART:20250415T020000Z
SEQUENCE:0
TRANSP:OPAQUE
DTEND:20250415T033000Z
URL:http://jmshockey.com/games/15682
LOCATION:Doug Woog Arena (Wakota)
SUMMARY:Lower Level Game at Doug Woog Arena (Wakota)
CLASS:PUBLIC
DTSTAMP:20260421T104605Z
END:VEVENT
END:VCALENDAR