BEGIN:VCALENDAR
VERSION:2.0
PRODID:JMS Hockey
X-PUBLISHED-TTL:P1W
BEGIN:VEVENT
UID:69e8bfb0405a4
DTSTART:20250408T020000Z
SEQUENCE:0
TRANSP:OPAQUE
DTEND:20250408T033000Z
URL:http://jmshockey.com/games/15681
LOCATION:Doug Woog Arena (Wakota)
SUMMARY:Lower Level Game at Doug Woog Arena (Wakota)
CLASS:PUBLIC
DTSTAMP:20260422T073144Z
END:VEVENT
END:VCALENDAR