BEGIN:VCALENDAR
VERSION:2.0
PRODID:JMS Hockey
X-PUBLISHED-TTL:P1W
BEGIN:VEVENT
UID:69e77728d26b0
DTSTART:20250430T020000Z
SEQUENCE:0
TRANSP:OPAQUE
DTEND:20250430T033000Z
URL:http://jmshockey.com/games/15678
LOCATION:Eden Prairie Comm Ctr
SUMMARY:Upper Level Game at Eden Prairie Comm Ctr
CLASS:PUBLIC
DTSTAMP:20260421T081000Z
END:VEVENT
END:VCALENDAR