BEGIN:VCALENDAR
VERSION:2.0
PRODID:JMS Hockey
X-PUBLISHED-TTL:P1W
BEGIN:VEVENT
UID:69e7c3ba3b7f2
DTSTART:20100610T004500Z
SEQUENCE:0
TRANSP:OPAQUE
DTEND:20100610T021500Z
URL:http://jmshockey.com/games/1567
LOCATION:Breck Anderson Arena
SUMMARY:Level 3 Game at Breck Anderson Arena
CLASS:PUBLIC
DTSTAMP:20260421T133642Z
END:VEVENT
END:VCALENDAR