BEGIN:VCALENDAR
VERSION:2.0
PRODID:JMS Hockey
X-PUBLISHED-TTL:P1W
BEGIN:VEVENT
UID:69e785dcd9cdc
DTSTART:20250513T021500Z
SEQUENCE:0
TRANSP:OPAQUE
DTEND:20250513T034500Z
URL:http://jmshockey.com/games/15665
LOCATION:Eden Prairie Comm Ctr
SUMMARY:Intermediate Game at Eden Prairie Comm Ctr
CLASS:PUBLIC
DTSTAMP:20260421T091244Z
END:VEVENT
END:VCALENDAR