BEGIN:VCALENDAR
VERSION:2.0
PRODID:JMS Hockey
X-PUBLISHED-TTL:P1W
BEGIN:VEVENT
UID:69e82d91e555e
DTSTART:20100609T004500Z
SEQUENCE:0
TRANSP:OPAQUE
DTEND:20100609T021500Z
URL:http://jmshockey.com/games/1566
LOCATION:Breck Anderson Arena
SUMMARY:Level 2 Game at Breck Anderson Arena
CLASS:PUBLIC
DTSTAMP:20260421T210817Z
END:VEVENT
END:VCALENDAR