BEGIN:VCALENDAR
VERSION:2.0
PRODID:JMS Hockey
X-PUBLISHED-TTL:P1W
BEGIN:VEVENT
UID:69e671f141c4d
DTSTART:20250522T020000Z
SEQUENCE:0
TRANSP:OPAQUE
DTEND:20250522T033000Z
URL:http://jmshockey.com/games/15623
LOCATION:Polar Arena
SUMMARY:Lower Level Game at Polar Arena
CLASS:PUBLIC
DTSTAMP:20260420T133529Z
END:VEVENT
END:VCALENDAR