BEGIN:VCALENDAR
VERSION:2.0
PRODID:JMS Hockey
X-PUBLISHED-TTL:P1W
BEGIN:VEVENT
UID:69e787b505d35
DTSTART:20250508T020000Z
SEQUENCE:0
TRANSP:OPAQUE
DTEND:20250508T033000Z
URL:http://jmshockey.com/games/15621
LOCATION:Polar Arena
SUMMARY:Lower Level Game at Polar Arena
CLASS:PUBLIC
DTSTAMP:20260421T092037Z
END:VEVENT
END:VCALENDAR