BEGIN:VCALENDAR
VERSION:2.0
PRODID:JMS Hockey
X-PUBLISHED-TTL:P1W
BEGIN:VEVENT
UID:69e7cba1e8cd5
DTSTART:20100605T020000Z
SEQUENCE:0
TRANSP:OPAQUE
DTEND:20100605T033000Z
URL:http://jmshockey.com/games/1562
LOCATION:Eden Prairie Comm Ctr
SUMMARY:Level 3 Game at Eden Prairie Comm Ctr
CLASS:PUBLIC
DTSTAMP:20260421T141025Z
END:VEVENT
END:VCALENDAR