BEGIN:VCALENDAR
VERSION:2.0
PRODID:JMS Hockey
X-PUBLISHED-TTL:P1W
BEGIN:VEVENT
UID:69e7adeda7871
DTSTART:20250403T020000Z
SEQUENCE:0
TRANSP:OPAQUE
DTEND:20250403T033000Z
URL:http://jmshockey.com/games/15616
LOCATION:Polar Arena
SUMMARY:Lower Level Game at Polar Arena
CLASS:PUBLIC
DTSTAMP:20260421T120341Z
END:VEVENT
END:VCALENDAR