BEGIN:VCALENDAR
VERSION:2.0
PRODID:JMS Hockey
X-PUBLISHED-TTL:P1W
BEGIN:VEVENT
UID:69e7856168482
DTSTART:20100605T000000Z
SEQUENCE:0
TRANSP:OPAQUE
DTEND:20100605T013000Z
URL:http://jmshockey.com/games/1561
LOCATION:Bloomington Ice Gardens
SUMMARY:Level 2 Game at Bloomington Ice Gardens
CLASS:PUBLIC
DTSTAMP:20260421T091041Z
END:VEVENT
END:VCALENDAR