BEGIN:VCALENDAR
VERSION:2.0
PRODID:JMS Hockey
X-PUBLISHED-TTL:P1W
BEGIN:VEVENT
UID:69e7961d147bb
DTSTART:20250531T021500Z
SEQUENCE:0
TRANSP:OPAQUE
DTEND:20250531T034500Z
URL:http://jmshockey.com/games/15598
LOCATION:St Louis Park Rec Center
SUMMARY:Lower Level Game at St Louis Park Rec Center
CLASS:PUBLIC
DTSTAMP:20260421T102205Z
END:VEVENT
END:VCALENDAR