BEGIN:VCALENDAR
VERSION:2.0
PRODID:JMS Hockey
X-PUBLISHED-TTL:P1W
BEGIN:VEVENT
UID:69e739e8e939f
DTSTART:20250519T013000Z
SEQUENCE:0
TRANSP:OPAQUE
DTEND:20250519T030000Z
URL:http://jmshockey.com/games/15585
LOCATION:Roseville Skating Center
SUMMARY:All level Game at Roseville Skating Center
CLASS:PUBLIC
DTSTAMP:20260421T034840Z
END:VEVENT
END:VCALENDAR