BEGIN:VCALENDAR
VERSION:2.0
PRODID:JMS Hockey
X-PUBLISHED-TTL:P1W
BEGIN:VEVENT
UID:69ed12ff4966e
DTSTART:20250103T033000Z
SEQUENCE:0
TRANSP:OPAQUE
DTEND:20250103T050000Z
URL:http://jmshockey.com/games/15549
LOCATION:St Thomas Ice Arena
SUMMARY:Intermediate Game at St Thomas Ice Arena
CLASS:PUBLIC
DTSTAMP:20260425T141615Z
END:VEVENT
END:VCALENDAR