BEGIN:VCALENDAR
VERSION:2.0
PRODID:JMS Hockey
X-PUBLISHED-TTL:P1W
BEGIN:VEVENT
UID:69e799f536212
DTSTART:20250218T030000Z
SEQUENCE:0
TRANSP:OPAQUE
DTEND:20250218T043000Z
URL:http://jmshockey.com/games/15540
LOCATION:Eden Prairie Comm Ctr
SUMMARY:Intermediate Game at Eden Prairie Comm Ctr
CLASS:PUBLIC
DTSTAMP:20260421T103829Z
END:VEVENT
END:VCALENDAR