BEGIN:VCALENDAR
VERSION:2.0
PRODID:JMS Hockey
X-PUBLISHED-TTL:P1W
BEGIN:VEVENT
UID:69e7f9542313c
DTSTART:20100602T023000Z
SEQUENCE:0
TRANSP:OPAQUE
DTEND:20100602T040000Z
URL:http://jmshockey.com/games/1551
LOCATION:St Louis Park Rec Center
SUMMARY:Level 4 Game at St Louis Park Rec Center
CLASS:PUBLIC
DTSTAMP:20260421T172524Z
END:VEVENT
END:VCALENDAR