BEGIN:VCALENDAR
VERSION:2.0
PRODID:JMS Hockey
X-PUBLISHED-TTL:P1W
BEGIN:VEVENT
UID:69e79da8b35d1
DTSTART:20250311T024000Z
SEQUENCE:0
TRANSP:OPAQUE
DTEND:20250311T041000Z
URL:http://jmshockey.com/games/15496
LOCATION:Doug Woog Arena (Wakota)
SUMMARY:Lower Level Game at Doug Woog Arena (Wakota)
CLASS:PUBLIC
DTSTAMP:20260421T105416Z
END:VEVENT
END:VCALENDAR