BEGIN:VCALENDAR
VERSION:2.0
PRODID:JMS Hockey
X-PUBLISHED-TTL:P1W
BEGIN:VEVENT
UID:69e7cf24194b5
DTSTART:20241126T032000Z
SEQUENCE:0
TRANSP:OPAQUE
DTEND:20241126T045000Z
URL:http://jmshockey.com/games/15481
LOCATION:Doug Woog Arena (Wakota)
SUMMARY:Lower Level Game at Doug Woog Arena (Wakota)
CLASS:PUBLIC
DTSTAMP:20260421T142524Z
END:VEVENT
END:VCALENDAR